BEGIN:VCALENDAR
VERSION:2.0
PRODID:-//Squarespace Inc/Squarespace 6//v6//EN
BEGIN:VEVENT
UID:5a0baed208522925f03b4bf1@squarespace.com
DTSTAMP:20171115T034215Z
DTSTART:20171201T003000Z
DTEND:20171201T033000Z
SUMMARY:Festival Headline Concert
END:VEVENT
END:VCALENDAR
