BEGIN:VCALENDAR
VERSION:2.0
PRODID:-//Squarespace Inc/Squarespace 6//v6//EN
BEGIN:VEVENT
UID:5a0bb04fe2c483e5b585bd31@squarespace.com
DTSTAMP:20171115T034123Z
DTSTART:20171202T003000Z
DTEND:20171202T033000Z
SUMMARY:Festival Opening Night
END:VEVENT
END:VCALENDAR
