BEGIN:VCALENDAR
VERSION:2.0
PRODID:-//Squarespace Inc/Squarespace 6//v6//EN
BEGIN:VEVENT
UID:5a0bb139f9619a2a366b5dcb@squarespace.com
DTSTAMP:20171115T033919Z
DTSTART:20171203T003000Z
DTEND:20171203T033000Z
SUMMARY:Commonweatlh Concert
END:VEVENT
END:VCALENDAR
