BEGIN:VCALENDAR
VERSION:2.0
PRODID:-//Squarespace Inc/Squarespace 6//v6//EN
BEGIN:VEVENT
UID:5a0bb25fc83025fe16bc9326@squarespace.com
DTSTAMP:20171115T034059Z
DTSTART:20171204T003000Z
DTEND:20171204T033000Z
SUMMARY:Closing Night
END:VEVENT
END:VCALENDAR
