BEGIN:VCALENDAR
VERSION:2.0
PRODID:-//Squarespace Inc/Squarespace 6//v6//EN
BEGIN:VEVENT
UID:5afa3a3388251b0a3ecc1798@squarespace.com
DTSTAMP:20180515T014151Z
DTSTART:20180609T000000Z
DTEND:20180609T030000Z
SUMMARY:A Tribute to Miles and Chet
END:VEVENT
END:VCALENDAR
