BEGIN:VCALENDAR
VERSION:2.0
PRODID:-//Squarespace Inc/Squarespace 6//v6//EN
BEGIN:VEVENT
UID:5afa3aed575d1ff8cd9996d6@squarespace.com
DTSTAMP:20180515T014447Z
DTSTART:20180610T000000Z
DTEND:20180610T030000Z
SUMMARY:Neo Soul Project
END:VEVENT
END:VCALENDAR
